BEGIN:VCALENDAR
VERSION:2.0
PRODID:-//OAL Travel Network - ECPv6.15.20//NONSGML v1.0//EN
CALSCALE:GREGORIAN
METHOD:PUBLISH
X-ORIGINAL-URL:https://oaltravelnetwork.com
X-WR-CALDESC:Events for OAL Travel Network
REFRESH-INTERVAL;VALUE=DURATION:PT1H
X-Robots-Tag:noindex
X-PUBLISHED-TTL:PT1H
BEGIN:VTIMEZONE
TZID:America/New_York
BEGIN:DAYLIGHT
TZOFFSETFROM:-0500
TZOFFSETTO:-0400
TZNAME:EDT
DTSTART:20240310T070000
END:DAYLIGHT
BEGIN:STANDARD
TZOFFSETFROM:-0400
TZOFFSETTO:-0500
TZNAME:EST
DTSTART:20241103T060000
END:STANDARD
BEGIN:DAYLIGHT
TZOFFSETFROM:-0500
TZOFFSETTO:-0400
TZNAME:EDT
DTSTART:20250309T070000
END:DAYLIGHT
BEGIN:STANDARD
TZOFFSETFROM:-0400
TZOFFSETTO:-0500
TZNAME:EST
DTSTART:20251102T060000
END:STANDARD
BEGIN:DAYLIGHT
TZOFFSETFROM:-0500
TZOFFSETTO:-0400
TZNAME:EDT
DTSTART:20260308T070000
END:DAYLIGHT
BEGIN:STANDARD
TZOFFSETFROM:-0400
TZOFFSETTO:-0500
TZNAME:EST
DTSTART:20261101T060000
END:STANDARD
END:VTIMEZONE
BEGIN:VEVENT
DTSTART;TZID=America/New_York:20250417T120000
DTEND;TZID=America/New_York:20250417T123000
DTSTAMP:20260423T122254
CREATED:20250327T150932Z
LAST-MODIFIED:20250327T152057Z
UID:10000013-1744891200-1744893000@oaltravelnetwork.com
SUMMARY:OAL Training Series ~ Don't leave money on the table...the art of the upsell!
DESCRIPTION:📢 OAL Training Series: Don’t leave money on the table…the art of the upsell! \nIn this session\, we’ll explore the art of the upsell – how strategically adding components to your clients’ vacations can enhance their experience while increasing your commission. Discover practical ways to elevate their trip with valuable add-ons that create unforgettable moments and boost your bottom line. \n📅 Date: April 17th\, 2025\n⏰ Time: 12:00pm eastern\n📍 Location: Zoom Meeting \nThe registration link is below.
URL:https://oaltravelnetwork.com/event/oal-training-series-dont-leave-money-on-the-table-the-art-of-the-upsell/
CATEGORIES:Virtual Training
END:VEVENT
BEGIN:VEVENT
DTSTART;TZID=America/New_York:20250417T180000
DTEND;TZID=America/New_York:20250417T183000
DTSTAMP:20260423T122254
CREATED:20250327T151212Z
LAST-MODIFIED:20250327T152035Z
UID:10000014-1744912800-1744914600@oaltravelnetwork.com
SUMMARY:OAL Training Series ~ Don't leave money on the table...the art of the upsell!
DESCRIPTION:📢 OAL Training Series: Don’t leave money on the table…the art of the upsell! \nIn this session\, we’ll explore the art of the upsell – how strategically adding components to your clients’ vacations can enhance their experience while increasing your commission. Discover practical ways to elevate their trip with valuable add-ons that create unforgettable moments and boost your bottom line. \n📅 Date: April 17th\, 2025\n⏰ Time: 12:00pm eastern\n📍 Location: Zoom Meeting \nThe registration link is below.
URL:https://oaltravelnetwork.com/event/oal-training-series-dont-leave-money-on-the-table-the-art-of-the-upsell-2/
CATEGORIES:Virtual Training
END:VEVENT
END:VCALENDAR