BEGIN:VCALENDAR
VERSION:2.0
PRODID:-//OAL Travel Network - ECPv6.15.20//NONSGML v1.0//EN
CALSCALE:GREGORIAN
METHOD:PUBLISH
X-WR-CALNAME:OAL Travel Network
X-ORIGINAL-URL:https://oaltravelnetwork.com
X-WR-CALDESC:Events for OAL Travel Network
REFRESH-INTERVAL;VALUE=DURATION:PT1H
X-Robots-Tag:noindex
X-PUBLISHED-TTL:PT1H
BEGIN:VTIMEZONE
TZID:America/New_York
BEGIN:DAYLIGHT
TZOFFSETFROM:-0500
TZOFFSETTO:-0400
TZNAME:EDT
DTSTART:20240310T070000
END:DAYLIGHT
BEGIN:STANDARD
TZOFFSETFROM:-0400
TZOFFSETTO:-0500
TZNAME:EST
DTSTART:20241103T060000
END:STANDARD
BEGIN:DAYLIGHT
TZOFFSETFROM:-0500
TZOFFSETTO:-0400
TZNAME:EDT
DTSTART:20250309T070000
END:DAYLIGHT
BEGIN:STANDARD
TZOFFSETFROM:-0400
TZOFFSETTO:-0500
TZNAME:EST
DTSTART:20251102T060000
END:STANDARD
BEGIN:DAYLIGHT
TZOFFSETFROM:-0500
TZOFFSETTO:-0400
TZNAME:EDT
DTSTART:20260308T070000
END:DAYLIGHT
BEGIN:STANDARD
TZOFFSETFROM:-0400
TZOFFSETTO:-0500
TZNAME:EST
DTSTART:20261101T060000
END:STANDARD
END:VTIMEZONE
BEGIN:VEVENT
DTSTART;TZID=America/New_York:20250501T120000
DTEND;TZID=America/New_York:20250501T123000
DTSTAMP:20260423T110549
CREATED:20250327T151717Z
LAST-MODIFIED:20250327T152013Z
UID:10000015-1746100800-1746102600@oaltravelnetwork.com
SUMMARY:OAL Training Series ~ SNAP Review
DESCRIPTION:📢 OAL Training Series: SNAP Review \nIn this session\, we’ll review the SNAP booking tool in Agent Universe\, showcasing how this intuitive point-and-click platform streamlines the process of booking airfare\, car rentals\, and hotel accommodations. Discover how SNAP can save you time and simplify travel planning for your clients. \n📅 Date: May 1st\, 2025\n⏰ Time: 12:00pm eastern\n📍 Location: Zoom Meeting \nThe registration link is below.
URL:https://oaltravelnetwork.com/event/oal-training-series-snap-review/
CATEGORIES:Virtual Training
END:VEVENT
BEGIN:VEVENT
DTSTART;TZID=America/New_York:20250501T180000
DTEND;TZID=America/New_York:20250501T183000
DTSTAMP:20260423T110549
CREATED:20250327T151947Z
LAST-MODIFIED:20250327T151947Z
UID:10000016-1746122400-1746124200@oaltravelnetwork.com
SUMMARY:OAL Training Series ~ SNAP Review
DESCRIPTION:📢 OAL Training Series: SNAP Review \nIn this session\, we’ll review the SNAP booking tool in Agent Universe\, showcasing how this intuitive point-and-click platform streamlines the process of booking airfare\, car rentals\, and hotel accommodations. Discover how SNAP can save you time and simplify travel planning for your clients. \n📅 Date: May 1st\, 2025\n⏰ Time: 6:00pm eastern\n📍 Location: Zoom Meeting \nThe registration link is below.
URL:https://oaltravelnetwork.com/event/oal-training-series-snap-review-2/
CATEGORIES:Virtual Training
END:VEVENT
BEGIN:VEVENT
DTSTART;TZID=America/New_York:20250515T120000
DTEND;TZID=America/New_York:20250515T123000
DTSTAMP:20260423T110549
CREATED:20250327T141351Z
LAST-MODIFIED:20250512T153857Z
UID:10000011-1747310400-1747312200@oaltravelnetwork.com
SUMMARY:OAL Training Series ~ Vendor Travel Protection vs Third Party Travel Protection
DESCRIPTION:📢 OAL Training Series: Vendor Insurance vs. Third-Party Travel Insurance \nJoin us for our latest OAL Training Series session\, where we’ll break down the key differences between vendor insurance and third-party travel insurance. Learn how to confidently guide your clients to the best coverage options for their needs. \n📅 Date: May 15th\, 2025\n⏰ Time: 12:00pm eastern\n📍 Location: Zoom Meeting \nDon’t miss this chance to enhance your expertise and provide even more value to your clients!
URL:https://oaltravelnetwork.com/event/oal-training-series-vendor-travel-protection-vs-third-party-travel-protection/
CATEGORIES:Virtual Training
LOCATION:
END:VEVENT
BEGIN:VEVENT
DTSTART;TZID=America/New_York:20250515T180000
DTEND;TZID=America/New_York:20250515T183000
DTSTAMP:20260423T110549
CREATED:20250327T141605Z
LAST-MODIFIED:20250512T153729Z
UID:10000012-1747332000-1747333800@oaltravelnetwork.com
SUMMARY:OAL Training Series ~ Vendor Insurance vs. Third-Party Travel Insurance
DESCRIPTION:📢 OAL Training Series: Vendor Insurance vs. Third-Party Travel Insurance \nJoin us for our latest OAL Training Series session\, where we’ll break down the key differences between vendor insurance and third-party travel insurance. Learn how to confidently guide your clients to the best coverage options for their needs. \n📅 Date: May 15\, 2025\n⏰ Time: 6:00pm eastern\n📍 Location: Zoom Meeting \nDon’t miss this chance to enhance your expertise and provide even more value to your clients!
URL:https://oaltravelnetwork.com/event/oal-training-series-vendor-insurance-vs-third-party-travel-insurance/
CATEGORIES:Virtual Training
END:VEVENT
END:VCALENDAR