BEGIN:VCALENDAR
VERSION:2.0
PRODID:-//OAL Travel Network - ECPv6.15.20//NONSGML v1.0//EN
CALSCALE:GREGORIAN
METHOD:PUBLISH
X-ORIGINAL-URL:https://oaltravelnetwork.com
X-WR-CALDESC:Events for OAL Travel Network
REFRESH-INTERVAL;VALUE=DURATION:PT1H
X-Robots-Tag:noindex
X-PUBLISHED-TTL:PT1H
BEGIN:VTIMEZONE
TZID:America/New_York
BEGIN:DAYLIGHT
TZOFFSETFROM:-0500
TZOFFSETTO:-0400
TZNAME:EDT
DTSTART:20240310T070000
END:DAYLIGHT
BEGIN:STANDARD
TZOFFSETFROM:-0400
TZOFFSETTO:-0500
TZNAME:EST
DTSTART:20241103T060000
END:STANDARD
BEGIN:DAYLIGHT
TZOFFSETFROM:-0500
TZOFFSETTO:-0400
TZNAME:EDT
DTSTART:20250309T070000
END:DAYLIGHT
BEGIN:STANDARD
TZOFFSETFROM:-0400
TZOFFSETTO:-0500
TZNAME:EST
DTSTART:20251102T060000
END:STANDARD
BEGIN:DAYLIGHT
TZOFFSETFROM:-0500
TZOFFSETTO:-0400
TZNAME:EDT
DTSTART:20260308T070000
END:DAYLIGHT
BEGIN:STANDARD
TZOFFSETFROM:-0400
TZOFFSETTO:-0500
TZNAME:EST
DTSTART:20261101T060000
END:STANDARD
END:VTIMEZONE
BEGIN:VEVENT
DTSTART;VALUE=DATE:20250128
DTEND;VALUE=DATE:20250129
DTSTAMP:20260423T120946
CREATED:20250119T172259Z
LAST-MODIFIED:20250119T172259Z
UID:10000005-1738022400-1738108799@oaltravelnetwork.com
SUMMARY:National Plan a Vacation Day!
DESCRIPTION:Celebrate National Plan a Vacation Day! Use this day to map out your client’s dream getaway\, explore exciting destinations and stress to your clients to prioritize taking time off for themselves. Start planning today and make your next adventure a reality!
URL:https://oaltravelnetwork.com/event/national-plan-a-vacation-day/
ATTACH;FMTTYPE=image/jpeg:https://oaltravelnetwork.com/wp-content/uploads/2025/01/AdobeStock_254208415-scaled.jpeg
END:VEVENT
BEGIN:VEVENT
DTSTART;VALUE=DATE:20250120
DTEND;VALUE=DATE:20250121
DTSTAMP:20260423T120946
CREATED:20250117T154853Z
LAST-MODIFIED:20250117T155012Z
UID:10000003-1737331200-1737417599@oaltravelnetwork.com
SUMMARY:Office Closure
DESCRIPTION:OAL will be closed on Monday\, Jan. 20th\, in honor of the Dr. Martin Luther King\, Jr. holiday.
URL:https://oaltravelnetwork.com/event/office-closure/
END:VEVENT
END:VCALENDAR